Workbook

Sheet Info
A1: Date | B1: 43405
A2: Start Time | B2: 06:00
A3: Interval | B3: 15
A4: NB Street | B4: TH-120
A5: SB Street | B5: TH-120
A6: EB Street | B6: CR-D
A7: WB Street | B7: CR-D
A8: Ref. Pt.

Sheet Cars+
A1: Time | B1: Peds | C1: SB Right | D1: SB Thru | E1: SB Left | F1: SB UTrn | G1: Peds | H1: WB Right | I1: WB Thru | J1: WB Left | K1: WB Utrn | L1: Peds | M1: NB Right | N1: NB Thru | O1: NB Left | P1: NB UTrn | Q1: Peds | R1: EB Right | S1: EB Thru | T1: EB Left | U1: EB UTrn
A2: 06:00 | B2: 0 | C2: 12 | D2: 73 | E2: 1 | F2: 0 | G2: 0 | H2: 0 | I2: 2 | J2: 25 | K2: 0 | L2: 0 | M2: 21 | N2: 25 | O2: 14 | P2: 0 | Q2: 0 | R2: 24 | S2: 2 | T2: 1 | U2: 0
A3: 06:15 | B3: 0 | C3: 7 | D3: 81 | E3: 1 | F3: 0 | G3: 0 | H3: 1 | I3: 1 | J3: 20 | K3: 0 | L3: 0 | M3: 30 | N3: 22 | O3: 15 | P3: 0 | Q3: 0 | R3: 28 | S3: 0 | T3: 2 | U3: 0
A4: 06:30 | B4: 0 | C4: 10 | D4: 131 | E4: 2 | F4: 1 | G4: 0 | H4: 4 | I4: 6 | J4: 38 | K4: 0 | L4: 1 | M4: 40 | N4: 44 | O4: 19 | P4: 0 | Q4: 0 | R4: 42 | S4: 2 | T4: 4 | U4: 0
A5: 06:45 | B5: 0 | C5: 8 | D5: 117 | E5: 3 | F5: 0 | G5: 0 | H5: 4 | I5: 5 | J5: 34 | K5: 0 | L5: 2 | M5: 38 | N5: 93 | O5: 22 | P5: 0 | Q5: 0 | R5: 36 | S5: 3 | T5: 3 | U5: 0
A6: 07:00 | B6: 0 | C6: 3 | D6: 128 | E6: 2 | F6: 0 | G6: 0 | H6: 3 | I6: 2 | J6: 34 | K6: 0 | L6: 1 | M6: 41 | N6: 110 | O6: 26 | P6: 0 | Q6: 0 | R6: 41 | S6: 3 | T6: 1 | U6: 0
A7: 07:15 | B7: 0 | C7: 5 | D7: 138 | E7: 1 | F7: 0 | G7: 1 | H7: 3 | I7: 5 | J7: 40 | K7: 0 | L7: 0 | M7: 42 | N7: 190 | O7: 44 | P7: 0 | Q7: 0 | R7: 53 | S7: 2 | T7: 3 | U7: 0
A8: 07:30 | B8: 0 | C8: 7 | D8: 149 | E8: 5 | F8: 0 | G8: 0 | H8: 4 | I8: 7 | J8: 41 | K8: 0 | L8: 0 | M8: 38 | N8: 289 | O8: 33 | P8: 0 | Q8: 0 | R8: 48 | S8: 3 | T8: 10 | U8: 0
A9: 07:45 | B9: 0 | C9: 4 | D9: 139 | E9: 3 | F9: 0 | G9: 0 | H9: 4 | I9: 11 | J9: 38 | K9: 0 | L9: 0 | M9: 42 | N9: 252 | O9: 37 | P9: 0 | Q9: 0 | R9: 43 | S9: 5 | T9: 9 | U9: 0
A10: 08:00 | B10: 0 | C10: 11 | D10: 125 | E10: 5 | F10: 0 | G10: 0 | H10: 5 | I10: 12 | J10: 46 | K10: 0 | L10: 1 | M10: 35 | N10: 176 | O10: 38 | P10: 0 | Q10: 0 | R10: 37 | S10: 5 | T10: 5 | U10: 0
A11: 08:15 | B11: 0 | C11: 4 | D11: 116 | E11: 1 | F11: 0 | G11: 2 | H11: 3 | I11: 7 | J11: 30 | K11: 0 | L11: 1 | M11: 32 | N11: 160 | O11: 29 | P11: 0 | Q11: 0 | R11: 35 | S11: 3 | T11: 7 | U11: 0
A12: 08:30 | B12: 0 | C12: 6 | D12: 116 | E12: 3 | F12: 0 | G12: 0 | H12: 6 | I12: 5 | J12: 51 | K12: 0 | L12: 0 | M12: 38 | N12: 199 | O12: 27 | P12: 0 | Q12: 0 | R12: 40 | S12: 4 | T12: 8 | U12: 0
A13: 08:45 | B13: 0 | C13: 12 | D13: 113 | E13: 6 | F13: 1 | G13: 2 | H13: 5 | I13: 5 | J13: 37 | K13: 0 | L13: 1 | M13: 40 | N13: 221 | O13: 26 | P13: 0 | Q13: 0 | R13: 26 | S13: 9 | T13: 8 | U13: 0
... A61: 20:45 | B61: 0 | C61: 5 | D61: 120 | E61: 6 | F61: 0 | G61: 0 | H61: 2 | I61: 4 | J61: 14 | K61: 0 | L61: 0 | M61: 17 | N61: 52 | O61: 20 | P61: 1 | Q61: 0 | R61: 16 | S61: 2 | T61: 5 | U61: 0

Sheet Trucks
A1: Time | B1: Bikes | C1: SB Right | D1: SB Thru | E1: SB Left | F1: SB UTrn | G1: Bikes | H1: WB Right | I1: WB Thru | J1: WB Left | K1: WB Utrn | L1: Bikes | M1: NB Right | N1: NB Thru | O1: NB Left | P1: NB UTrn | Q1: Bikes | R1: EB Right | S1: EB Thru | T1: EB Left | U1: EB UTrn
A2: 06:00 | C2: 0 | D2: 2 | E2: 0 | F2: 0 | H2: 0 | I2: 0 | J2: 4 | K2: 0 | M2: 0 | N2: 2 | O2: 0 | P2: 0 | R2: 0 | S2: 0 | T2: 0 | U2: 0
A3: 06:15 | C3: 0 | D3: 1 | E3: 1 | F3: 0 | H3: 0 | I3: 0 | J3: 5 | K3: 0 | M3: 3 | N3: 0 | O3: 0 | P3: 0 | R3: 0 | S3: 0 | T3: 0 | U3: 0
A4: 06:30 | C4: 1 | D4: 2 | E4: 0 | F4: 0 | H4: 0 | I4: 1 | J4: 2 | K4: 0 | M4: 1 | N4: 4 | O4: 0 | P4: 0 | R4: 0 | S4: 0 | T4: 0 | U4: 0
A5: 06:45 | C5: 2 | D5: 3 | E5: 0 | F5: 0 | H5: 0 | I5: 0 | J5: 1 | K5: 0 | M5: 3 | N5: 1 | O5: 3 | P5: 0 | R5: 1 | S5: 0 | T5: 0 | U5: 0
A6: 07:00 | C6: 0 | D6: 0 | E6: 0 | F6: 0 | H6: 0 | I6: 0 | J6: 8 | K6: 0 | M6: 4 | N6: 5 | O6: 0 | P6: 0 | R6: 1 | S6: 1 | T6: 0 | U6: 0
A7: 07:15 | C7: 1 | D7: 4 | E7: 0 | F7: 0 | H7: 1 | I7: 0 | J7: 3 | K7: 0 | M7: 1 | N7: 6 | O7: 0 | P7: 0 | R7: 2 | S7: 0 | T7: 1 | U7: 0
A8: 07:30 | C8: 1 | D8: 5 | E8: 0 | F8: 0 | H8: 0 | I8: 0 | J8: 3 | K8: 0 | M8: 5 | N8: 11 | O8: 1 | P8: 0 | R8: 2 | S8: 0 | T8: 0 | U8: 0
A9: 07:45 | C9: 1 | D9: 7 | E9: 0 | F9: 0 | H9: 0 | I9: 2 | J9: 19 | K9: 0 | M9: 5 | N9: 4 | O9: 4 | P9: 0 | R9: 1 | S9: 3 | T9: 0 | U9: 0
A10: 08:00 | C10: 1 | D10: 1 | E10: 0 | F10: 0 | H10: 1 | I10: 10 | J10: 23 | K10: 2 | M10: 10 | N10: 7 | O10: 0 | P10: 0 | R10: 1 | S10: 0 | T10: 0 | U10: 0
A11: 08:15 | C11: 3 | D11: 3 | E11: 0 | F11: 0 | H11: 2 | I11: 4 | J11: 32 | K11: 0 | M11: 4 | N11: 4 | O11: 1 | P11: 0 | R11: 4 | S11: 1 | T11: 0 | U11: 0
A12: 08:30 | C12: 0 | D12: 0 | E12: 0 | F12: 0 | H12: 2 | I12: 3 | J12: 18 | K12: 0 | M12: 6 | N12: 3 | O12: 1 | P12: 0 | R12: 0 | S12: 0 | T12: 0 | U12: 0
A13: 08:45 | C13: 1 | D13: 7 | E13: 1 | F13: 0 | H13: 1 | I13: 0 | J13: 9 | K13: 0 | M13: 2 | N13: 5 | O13: 0 | P13: 0 | R13: 0 | S13: 0 | T13: 1 | U13: 0
... A61: 20:45 | C61: 0 | D61: 1 | E61: 1 | F61: 0 | H61: 0 | I61: 0 | J61: 2 | K61: 0 | M61: 5 | N61: 0 | O61: 0 | P61: 0 | R61: 0 | S61: 0 | T61: 1 | U61: 0

Sheet Total
A1: Time | B1: Peds | C1: SB Right | D1: SB Thru | E1: SB Left | F1: SB UTrn | G1: Peds | H1: WB Right | I1: WB Thru | J1: WB Left | K1: WB Utrn | L1: Peds | M1: NB Right | N1: NB Thru | O1: NB Left | P1: NB UTrn | Q1: Peds | R1: EB Right | S1: EB Thru | T1: EB Left | U1: EB UTrn
A2: 06:00 | B2: ='Cars+'!B2+Trucks!B2 -> 0 | C2: ='Cars+'!C2+Trucks!C2 -> 12 | D2: ='Cars+'!D2+Trucks!D2 -> 75 | E2: ='Cars+'!E2+Trucks!E2 -> 1 | F2: ='Cars+'!F2+Trucks!F2 -> 0 | G2: ='Cars+'!G2+Trucks!G2 -> 0 | H2: ='Cars+'!H2+Trucks!H2 -> 0 | I2: ='Cars+'!I2+Trucks!I2 -> 2 | ... U2: ='Cars+'!U2+Trucks!U2 -> 0
A3: 06:15 | B3: ='Cars+'!B3+Trucks!B3 -> 0 | C3: ='Cars+'!C3+Trucks!C3 -> 7 | D3: ='Cars+'!D3+Trucks!D3 -> 82 | E3: ='Cars+'!E3+Trucks!E3 -> 2 | F3: ='Cars+'!F3+Trucks!F3 -> 0 | G3: ='Cars+'!G3+Trucks!G3 -> 0 | H3: ='Cars+'!H3+Trucks!H3 -> 1 | I3: ='Cars+'!I3+Trucks!I3 -> 1 | ... U3: ='Cars+'!U3+Trucks!U3 -> 0
A4: 06:30 | B4: ='Cars+'!B4+Trucks!B4 -> 0 | C4: ='Cars+'!C4+Trucks!C4 -> 11 | D4: ='Cars+'!D4+Trucks!D4 -> 133 | E4: ='Cars+'!E4+Trucks!E4 -> 2 | F4: ='Cars+'!F4+Trucks!F4 -> 1 | G4: ='Cars+'!G4+Trucks!G4 -> 0 | H4: ='Cars+'!H4+Trucks!H4 -> 4 | I4: ='Cars+'!I4+Trucks!I4 -> 7 | ... U4: ='Cars+'!U4+Trucks!U4 -> 0
A5: 06:45 | B5: ='Cars+'!B5+Trucks!B5 -> 0 | C5: ='Cars+'!C5+Trucks!C5 -> 10 | D5: ='Cars+'!D5+Trucks!D5 -> 120 | E5: ='Cars+'!E5+Trucks!E5 -> 3 | F5: ='Cars+'!F5+Trucks!F5 -> 0 | G5: ='Cars+'!G5+Trucks!G5 -> 0 | H5: ='Cars+'!H5+Trucks!H5 -> 4 | I5: ='Cars+'!I5+Trucks!I5 -> 5 | ... U5: ='Cars+'!U5+Trucks!U5 -> 0
A6: 07:00 | B6: ='Cars+'!B6+Trucks!B6 -> 0 | C6: ='Cars+'!C6+Trucks!C6 -> 3 | D6: ='Cars+'!D6+Trucks!D6 -> 128 | E6: ='Cars+'!E6+Trucks!E6 -> 2 | F6: ='Cars+'!F6+Trucks!F6 -> 0 | G6: ='Cars+'!G6+Trucks!G6 -> 0 | H6: ='Cars+'!H6+Trucks!H6 -> 3 | I6: ='Cars+'!I6+Trucks!I6 -> 2 | ... U6: ='Cars+'!U6+Trucks!U6 -> 0
A7: 07:15 | B7: ='Cars+'!B7+Trucks!B7 -> 0 | C7: ='Cars+'!C7+Trucks!C7 -> 6 | D7: ='Cars+'!D7+Trucks!D7 -> 142 | E7: ='Cars+'!E7+Trucks!E7 -> 1 | F7: ='Cars+'!F7+Trucks!F7 -> 0 | G7: ='Cars+'!G7+Trucks!G7 -> 1 | H7: ='Cars+'!H7+Trucks!H7 -> 4 | I7: ='Cars+'!I7+Trucks!I7 -> 5 | ... U7: ='Cars+'!U7+Trucks!U7 -> 0
A8: 07:30 | B8: ='Cars+'!B8+Trucks!B8 -> 0 | C8: ='Cars+'!C8+Trucks!C8 -> 8 | D8: ='Cars+'!D8+Trucks!D8 -> 154 | E8: ='Cars+'!E8+Trucks!E8 -> 5 | F8: ='Cars+'!F8+Trucks!F8 -> 0 | G8: ='Cars+'!G8+Trucks!G8 -> 0 | H8: ='Cars+'!H8+Trucks!H8 -> 4 | I8: ='Cars+'!I8+Trucks!I8 -> 7 | ... U8: ='Cars+'!U8+Trucks!U8 -> 0
A9: 07:45 | B9: ='Cars+'!B9+Trucks!B9 -> 0 | C9: ='Cars+'!C9+Trucks!C9 -> 5 | D9: ='Cars+'!D9+Trucks!D9 -> 146 | E9: ='Cars+'!E9+Trucks!E9 -> 3 | F9: ='Cars+'!F9+Trucks!F9 -> 0 | G9: ='Cars+'!G9+Trucks!G9 -> 0 | H9: ='Cars+'!H9+Trucks!H9 -> 4 | I9: ='Cars+'!I9+Trucks!I9 -> 13 | ... U9: ='Cars+'!U9+Trucks!U9 -> 0
A10: 08:00 | B10: ='Cars+'!B10+Trucks!B10 -> 0 | C10: ='Cars+'!C10+Trucks!C10 -> 12 | D10: ='Cars+'!D10+Trucks!D10 -> 126 | E10: ='Cars+'!E10+Trucks!E10 -> 5 | F10: ='Cars+'!F10+Trucks!F10 -> 0 | G10: ='Cars+'!G10+Trucks!G10 -> 0 | H10: ='Cars+'!H10+Trucks!H10 -> 6 | I10: ='Cars+'!I10+Trucks!I10 -> 22 | ... U10: ='Cars+'!U10+Trucks!U10 -> 0
A11: 08:15 | B11: ='Cars+'!B11+Trucks!B11 -> 0 | C11: ='Cars+'!C11+Trucks!C11 -> 7 | D11: ='Cars+'!D11+Trucks!D11 -> 119 | E11: ='Cars+'!E11+Trucks!E11 -> 1 | F11: ='Cars+'!F11+Trucks!F11 -> 0 | G11: ='Cars+'!G11+Trucks!G11 -> 2 | H11: ='Cars+'!H11+Trucks!H11 -> 5 | I11: ='Cars+'!I11+Trucks!I11 -> 11 | ... U11: ='Cars+'!U11+Trucks!U11 -> 0
A12: 08:30 | B12: ='Cars+'!B12+Trucks!B12 -> 0 | C12: ='Cars+'!C12+Trucks!C12 -> 6 | D12: ='Cars+'!D12+Trucks!D12 -> 116 | E12: ='Cars+'!E12+Trucks!E12 -> 3 | F12: ='Cars+'!F12+Trucks!F12 -> 0 | G12: ='Cars+'!G12+Trucks!G12 -> 0 | H12: ='Cars+'!H12+Trucks!H12 -> 8 | I12: ='Cars+'!I12+Trucks!I12 -> 8 | ... U12: ='Cars+'!U12+Trucks!U12 -> 0
A13: 08:45 | B13: ='Cars+'!B13+Trucks!B13 -> 0 | C13: ='Cars+'!C13+Trucks!C13 -> 13 | D13: ='Cars+'!D13+Trucks!D13 -> 120 | E13: ='Cars+'!E13+Trucks!E13 -> 7 | F13: ='Cars+'!F13+Trucks!F13 -> 1 | G13: ='Cars+'!G13+Trucks!G13 -> 2 | H13: ='Cars+'!H13+Trucks!H13 -> 6 | I13: ='Cars+'!I13+Trucks!I13 -> 5 | ... U13: ='Cars+'!U13+Trucks!U13 -> 0
... A61: 20:45 | B61: ='Cars+'!B61+Trucks!B61 -> 0 | C61: ='Cars+'!C61+Trucks!C61 -> 5 | D61: ='Cars+'!D61+Trucks!D61 -> 121 | E61: ='Cars+'!E61+Trucks!E61 -> 7 | F61: ='Cars+'!F61+Trucks!F61 -> 0 | G61: ='Cars+'!G61+Trucks!G61 -> 0 | H61: ='Cars+'!H61+Trucks!H61 -> 2 | I61: ='Cars+'!I61+Trucks!I61 -> 4 | ... U61: ='Cars+'!U61+Trucks!U61 -> 0
